BEGIN:VCALENDAR
VERSION:2.0
PRODID:-//wp-events-plugin.com//6.6.4.4//EN
TZID:Europe/Berlin
X-WR-TIMEZONE:Europe/Berlin
BEGIN:VEVENT
UID:1026@cafe-krawall.de
DTSTART;TZID=Europe/Berlin:20251213T220000
DTEND;TZID=Europe/Berlin:20251213T234500
DTSTAMP:20251209T165741Z
URL:https://cafe-krawall.de/events/13-12-all-cats-are-beautiful/
SUMMARY:13.12. All Cats Are Beautiful
DESCRIPTION:13.12. All Cats Are Beautiful\n\nKommt zur Muscle Cats of Death
  @rollerderbygoe Afterparty am 13.12. 22-02 Uhr im Café Krawall\n\nWeiter
 e Tiere\, die euch an dem Abend erwarten:\nDJ Süßmaus mit feministischem
  HipHop\n&amp\; DJ Squirrel mit House\, Drum &amp\; Bass\n\n🔥🔥\n\n13
 .12. All Cats Are Beautiful\n\nCome to the Muscle Cats of Death @rollerder
 bygoe Afterparty on December 13th\, 22:00–02:00\, at Café Krawall\n\nOt
 her beautiful animals awaiting you that night:\nDJ Süßmaus with feminist
  hip hop\n&amp\; DJ Squirrel with house and drum &amp\; bass
ATTACH;FMTTYPE=image/jpeg:https://cafe-krawall.de/wp-content/uploads/2025/
 12/Sharepic_1312.jpg
CATEGORIES:party
END:VEVENT
BEGIN:VTIMEZONE
TZID:Europe/Berlin
X-LIC-LOCATION:Europe/Berlin
BEGIN:STANDARD
DTSTART:20251026T020000
TZOFFSETFROM:+0200
TZOFFSETTO:+0100
TZNAME:CET
END:STANDARD
END:VTIMEZONE
END:VCALENDAR