BEGIN:VCALENDAR
VERSION:2.0
PRODID:-//wp-events-plugin.com//6.6.4.4//EN
TZID:Europe/Berlin
X-WR-TIMEZONE:Europe/Berlin
BEGIN:VEVENT
UID:1070@cafe-krawall.de
DTSTART;TZID=Europe/Berlin:20260401T200000
DTEND;TZID=Europe/Berlin:20260401T220000
DTSTAMP:20260323T204653Z
URL:https://cafe-krawall.de/events/film-screening-a-womb-of-their-own/
SUMMARY:Film Screening "A Womb of Their Own"
DESCRIPTION:🏳️‍⚧️ English below 🏳️‍⚧️\n\nFilm: A Womb
  Of Their Own\n\nIm Rahmen der Feierlichkeiten zum Trans Day Of Visibility
  am 31. März präsentieren wir im Krawall eine besondere Filmvorführung:
 \nAls sechs unterschiedliche\, sich als männlich identifizierende Mensche
 n schwanger werden\, sehen sie sich mit binären Geschlechterkonstrukten i
 n der Mainstream-Kultur und sogar in der LGBTQ-Community konfrontiert. Ver
 folge ihre radikalen\, freudvollen Geschichten darüber\, wie sie ihr eige
 nes\, einzigartiges Geschlecht und ihre Sexualität finden\, ein Baby in i
 hrem Körper heranwachsen lassen und ihre Kinder zur Welt bringen\, stille
 n und großziehen.\n\nWann: 1. April\, 20 Uhr\nWo: Café Kollektiv Krawall
 \nSprache: Englisch\, mit englischen Untertiteln\n\nWeitere Informationen:
  Zugang per Treppenlift\, rollstuhlgerechte Toilette\, bitte bleib zu Haus
 e\, wenn du Erkältungssymptome hast\n\nEintritt: auf Spendenbasis\; koste
 nlos mit Kulturticket\n\n🏳️‍⚧️🏳️‍⚧️\n\nFilm: A Womb 
 Of Their Own\n\nAs part of the festivities around the trans day of visibil
 ity on 31. March we bring a special movie screening to Krawall:\nWhen six 
 diverse masculine-identified people get pregnant\, they are challenged by 
 binary gender constructs in mainstream culture\, and even in the LGBTQ com
 munity. Follow their radical\, joyful stories of establishing their own un
 ique gender and sexuality\, growing a baby in their bodies\, and birthing\
 , chestfeeding and parenting their children.\n\nWhen: 1st April\, 20h\nWhe
 re: Café Kollektiv Krawall\nLanguage: English\, with English subtitles\n\
 nAdditional information: accessible by stairlift\, wheelchair-accessible r
 estroom\, please stay home if you have cold symptoms\n\nAdmission: donatio
 n-based\; free with Kulturticket
ATTACH;FMTTYPE=image/jpeg:https://cafe-krawall.de/wp-content/uploads/2026/
 03/FIlmTrans.jpg
CATEGORIES:Filmvorführung
END:VEVENT
BEGIN:VTIMEZONE
TZID:Europe/Berlin
X-LIC-LOCATION:Europe/Berlin
BEGIN:DAYLIGHT
DTSTART:20260329T030000
TZOFFSETFROM:+0100
TZOFFSETTO:+0200
TZNAME:CEST
END:DAYLIGHT
END:VTIMEZONE
END:VCALENDAR