BEGIN:VCALENDAR
VERSION:2.0
PRODID:-//wp-events-plugin.com//6.6.4.4//EN
TZID:Europe/Berlin
X-WR-TIMEZONE:Europe/Berlin
BEGIN:VEVENT
UID:785@cafe-krawall.de
DTSTART;TZID=Europe/Berlin:20221209T190000
DTEND;TZID=Europe/Berlin:20221209T234500
DTSTAMP:20221209T155122Z
URL:https://cafe-krawall.de/events/flirtnight-von-cheers-queers/
SUMMARY:ENTFÄLLT! Flirtnight (von Cheers Queers)
DESCRIPTION:\n\nMUSS WEGEN KRANKHEIT LEIDER AUSFALLEN\n\nEin kleines Specia
 l 💖 Da die Nächte kälter werden\, möchten wir für etwas wärmere At
 mosphäre sorgen und veranstalten eine Flirt-Night! Nämlich im\n📍Café
  Kollektiv Krawall (Geismar Landstraße 19)\n⏰ ab 19 Uhr\n🏳️‍🌈
  wie üblich mit Einladung an alle\, die sich in irgendeinem Sinne als que
 er verstehen\, und für Allies\n\nUm das Flirten zu erleichtern\, haben wi
 r uns von vergangenen Flirt-Nights ein paar Ideen abgeschaut – zum Beisp
 iel werdet ihr anderen auch schriftlich ein paar süße Worte zukommen las
 sen können\, weitergereicht durch unsere Flirt-Fairy ✨ Und natürlich w
 erden wir vom Orga-Team jederzeit als Awarenesspersonen ansprechbar sein\,
  damit alle einen sorglosen Abend verbringen können.\n\nDa offizielle Cor
 onatests leider zurzeit nicht verlässlich kostenlos zu haben sind\, bitte
 n wir euch darum\, einen Selbsttest mitzubringen und euch vor Ort zu teste
 n. Denkt auch an eure Impfausweise (Namen können bei Bedarf abgedeckt wer
 den).\n\nKommt vorbei und kommt euch näher 💞
ATTACH;FMTTYPE=image/jpeg:https://cafe-krawall.de/wp-content/uploads/2022/
 12/2022-12-06-13.58.09.jpg
END:VEVENT
BEGIN:VTIMEZONE
TZID:Europe/Berlin
X-LIC-LOCATION:Europe/Berlin
BEGIN:STANDARD
DTSTART:20221030T020000
TZOFFSETFROM:+0200
TZOFFSETTO:+0100
TZNAME:CET
END:STANDARD
END:VTIMEZONE
END:VCALENDAR