BEGIN:VCALENDAR
VERSION:2.0
PRODID:-//wp-events-plugin.com//6.6.4.4//EN
TZID:Europe/Berlin
X-WR-TIMEZONE:Europe/Berlin
BEGIN:VEVENT
UID:832@cafe-krawall.de
DTSTART;TZID=Europe/Berlin:20231021T200000
DTEND;TZID=Europe/Berlin:20231021T220000
DTSTAMP:20231012T160548Z
URL:https://cafe-krawall.de/events/konzert-gustav-mit-wut-liebe/
SUMMARY:Konzert: Gustav mit "Wut & Liebe"
DESCRIPTION:\n\nAuf seinem neuen Album ‚Wut &amp\; Liebe‘ besingt Gusta
 v Erfahrungen aus zwei Jahren leben und aktiv sein an verschiedenen Orten 
 der Klimagerechtigkeitsbewegung. Die bewegende Stimmung in seinen Songs is
 t sowohl intim\, nach innen schauend\, als auch wütend und hoffnungsvoll 
 auf die gesellschaftliche Perspektive gerichtet. Die Vielfalt seiner Musik
  ermöglicht so auch weniger politisch aktiven Menschen einen emotionalen 
 Zugang zum Handeln in krisenhaften Zeiten.
ATTACH;FMTTYPE=image/jpeg:https://cafe-krawall.de/wp-content/uploads/2023/
 10/384447811_645440997568727_2039580955829664752_n.jpg
CATEGORIES:konzert
END:VEVENT
BEGIN:VTIMEZONE
TZID:Europe/Berlin
X-LIC-LOCATION:Europe/Berlin
BEGIN:DAYLIGHT
DTSTART:20230326T030000
TZOFFSETFROM:+0100
TZOFFSETTO:+0200
TZNAME:CEST
END:DAYLIGHT
END:VTIMEZONE
END:VCALENDAR