BEGIN:VCALENDAR
VERSION:2.0
PRODID:-//wp-events-plugin.com//6.6.4.4//EN
TZID:Europe/Berlin
X-WR-TIMEZONE:Europe/Berlin
BEGIN:VEVENT
UID:1061@cafe-krawall.de
DTSTART;TZID=Europe/Berlin:20260327T200000
DTEND;TZID=Europe/Berlin:20260327T220000
DTSTAMP:20260323T204435Z
URL:https://cafe-krawall.de/events/lesung-liebesmacht/
SUMMARY:Lesung "LiebesMacht"
DESCRIPTION:💜 Lesung: LiebesMacht - Über Freund*innenschaft\, Aromantik
  und die Dekonstruktion von romantischen Beziehungen 💜 von &amp\; mit N
 ora Kellner\n\n💛Wann? 27.03.\, 20h\n💛Wo? Café Krawall\, Geismar Lan
 dstr. 19\, 37083 Göttingen\n💛Wie? auf Spendenbasis &amp\; mit Kulturti
 cket kostenlos / mit Treppenlift erreichbar\n\n💛Inhalt:\nLiebe wird oft
  als höchstes Ideal verklärt. Doch was\, wenn dieses Ideal mehr ein gese
 llschaftliches Konstrukt als eine universelle Wahrheit ist? In diesem Buch
  dekonstruiert Nora Kellner den romantischen Liebesbegriff und zeigt auf\,
  wie eng er mit dem Kapitalismus und dem Patriarchat verwoben ist. Was bed
 eutet das für Menschen\, die außerhalb dieser Normen leben\, für aroman
 tische und asexuelle Personen? Welche Beziehungsformen werden systematisch
  abgewertet? Und wie könnten Alternativen aussehen? Von romantischen Freu
 nd*innenschaften\, queerplatonischen Beziehungen bis zum selbstbestimmten 
 Alleinsein eröffnet dieses Buch neue Perspektiven auf Nähe\, Intimität\
 , Zugehörigkeit und stellt die entscheidende Frage: Welche Utopien werden
  möglich\, wenn wir Liebe anders denken?
ATTACH;FMTTYPE=image/jpeg:https://cafe-krawall.de/wp-content/uploads/2026/
 01/lesungLiebesMacht.png
CATEGORIES:Lesung
END:VEVENT
BEGIN:VTIMEZONE
TZID:Europe/Berlin
X-LIC-LOCATION:Europe/Berlin
BEGIN:STANDARD
DTSTART:20251026T020000
TZOFFSETFROM:+0200
TZOFFSETTO:+0100
TZNAME:CET
END:STANDARD
END:VTIMEZONE
END:VCALENDAR