BEGIN:VCALENDAR
VERSION:2.0
PRODID:-//wp-events-plugin.com//6.6.4.4//EN
TZID:Europe/Berlin
X-WR-TIMEZONE:Europe/Berlin
BEGIN:VEVENT
UID:1060@cafe-krawall.de
DTSTART;TZID=Europe/Berlin:20260212T190000
DTEND;TZID=Europe/Berlin:20260212T210000
DTSTAMP:20260203T222123Z
URL:https://cafe-krawall.de/events/lesung-politische-geborgenheit-vorankom
 men-in-sozialen-bewegungen/
SUMMARY:Lesung "Politische Geborgenheit - vor*ankommen in sozialen Bewegung
 en"
DESCRIPTION:"Politische Geborgenheit - vor*ankommen in sozialen Bewegungen"
 \n\nGeborgenheit wird oft im Privaten verortet: In Wohn- und Kinderzimmern
 \, im Mutterleib\, im Schneckenhaus. Doch was wäre\, wenn sie viel politi
 scher ist\, als wir denken? Die Flensburger Aktivistin und Autorin Clara T
 empel ist zu Gast in Göttingen und stellt ihr soziologisch-philosophische
 s\, wissenschaftlich-aktivistisches Wort- und Bilderbuch „Politische Geb
 orgenheit: Vor*ankommen in Sozialen Bewegungen“ vor.\n\n12.02.2026\, 19 
 Uhr\nCafé Krawall\, Geismar Landstraße 19\, 37083 Göttingen\nEintritt m
 it Kulturticket frei\, ansonsten Spende erwünscht\n\nGeborgenheit spielt 
 eine wichtige Rolle in unserer politischen Arbeit und kann dazu beitragen\
 , dass wir langfristig aktiv und widerständig sein können. Gleichzeitig 
 müssen wir sie auch immer wieder kritisch hinterfragen\, weil sie eingebe
 ttet in gesellschaftliche Machtgefüge ist und nicht selten auf Grenzziehu
 ngen und Ausschlüssen beruht. Das Buch wirft einen feministischen Blick a
 uf Herkünfte und Zukünfte von Geborgenheit. Es versucht eine Handvoll An
 tworten auf die Frage zu finden\, wie wir das transformative Potenzial von
  Geborgenheit stärken können\, ohne bestehende Machtverhältnisse zu rep
 roduzieren: Wie können wir in unseren Kollektiven im Kleinen ankommen und
  trotzdem im Großen vorankommen?\n\nMehr Infos zum Buch und zur Autorin g
 ibt es hier: https://claratempel.de/buch/\n\n&nbsp\;
ATTACH;FMTTYPE=image/jpeg:https://cafe-krawall.de/wp-content/uploads/2026/
 01/Sharepic_Lesung_PolGeborgenheit_Krawall.png
CATEGORIES:Lesung
END:VEVENT
BEGIN:VTIMEZONE
TZID:Europe/Berlin
X-LIC-LOCATION:Europe/Berlin
BEGIN:STANDARD
DTSTART:20251026T020000
TZOFFSETFROM:+0200
TZOFFSETTO:+0100
TZNAME:CET
END:STANDARD
END:VTIMEZONE
END:VCALENDAR