BEGIN:VCALENDAR
VERSION:2.0
PRODID:-//wp-events-plugin.com//6.6.4.4//EN
TZID:Europe/Berlin
X-WR-TIMEZONE:Europe/Berlin
BEGIN:VEVENT
UID:1063@cafe-krawall.de
DTSTART;TZID=Europe/Berlin:20260124T120000
DTEND;TZID=Europe/Berlin:20260124T180000
DTSTAMP:20260119T140453Z
URL:https://cafe-krawall.de/events/new-years-flohmarkt/
SUMMARY:New Year's Flohmarkt
DESCRIPTION:🐥 New Year‘s Flohmarkt 🐥\n\n~English below~\n\nCute Dat
 e Idea für nach der Flirtnight? Kommt zum Flohmarkt am Samstag\, 24.01. z
 wischen 12 und 18 Uhr im Krawall 💛 Es gibt Klamotten\, Schuhe\, leckere
  Getränke und ab 15 Uhr warme Küche!\n\nDu willst spontan einen Stand ma
 chen? Dann schreib uns eine Mail an info@cafe-krawall.de\nStandgebühr ist
 \, einen veganen Kuchen mitzubringen 🍰\n\n~~\n\n🐥 New Year’s Flea 
 Market 🐥\n\nLooking for a cute date idea after Flirt Night?\nCome by ou
 r flea market on Saturday\, Jan 24\, from 12–6 pm at Krawall 💛\nThere
  will be clothes\, shoes\, tasty drinks\, and from 3 pm on\, warm food!\n\
 nWant to spontaneously sell your stuff?\nJust send us an email at info@caf
 e-krawall.de\nThe stall fee is bringing a vegan cake 🍰\n15:54\n\n🐥\n
 \n&nbsp\;
ATTACH;FMTTYPE=image/jpeg:https://cafe-krawall.de/wp-content/uploads/2026/
 01/flohmarktjn26.png
CATEGORIES:specials
END:VEVENT
BEGIN:VTIMEZONE
TZID:Europe/Berlin
X-LIC-LOCATION:Europe/Berlin
BEGIN:STANDARD
DTSTART:20251026T020000
TZOFFSETFROM:+0200
TZOFFSETTO:+0100
TZNAME:CET
END:STANDARD
END:VTIMEZONE
END:VCALENDAR