BEGIN:VCALENDAR
VERSION:2.0
PRODID:-//wp-events-plugin.com//6.6.4.4//EN
TZID:Europe/Berlin
X-WR-TIMEZONE:Europe/Berlin
BEGIN:VEVENT
UID:783@cafe-krawall.de
DTSTART;TZID=Europe/Berlin:20221202T190000
DTEND;TZID=Europe/Berlin:20221202T230000
DTSTAMP:20221121T145429Z
URL:https://cafe-krawall.de/events/pub-quiz-organisiert-von-gfbv/
SUMMARY:Pub-Quiz (organisiert von GfbV)
DESCRIPTION:Liebe Alle!\nHabt ihr Lust zu quizzen statt zu gucken? Und woll
 tet ihr schon immer mehr über das WM-Gastgeber Land Katar wissen? Wir von
  der Gesellschaft für bedrohte Völker laden alle Interessierten für ei
 n "kritisches" Pub Quiz zum Thema Fußball und Katar am Freitag\, den 2. D
 ezember um 19 Uhr im Café Krawall ein!\nMit dem Boykott  #keinkatarinm
 einerkneipe und unserem Projekt "Rote Karte für Katar" wollen wir unsere
  Stimme gegen die Missstände wie die Menschenrechtsverletzungen von Arbei
 tsmigrant*innen und die  Verfolgung von religiösen Minderheiten und Jour
 nalist*innen erheben.\nAlso kommt zahlreich! Wir freuen uns auf euch! :)
CATEGORIES:kulturveranstaltung
END:VEVENT
BEGIN:VTIMEZONE
TZID:Europe/Berlin
X-LIC-LOCATION:Europe/Berlin
BEGIN:STANDARD
DTSTART:20221030T020000
TZOFFSETFROM:+0200
TZOFFSETTO:+0100
TZNAME:CET
END:STANDARD
END:VTIMEZONE
END:VCALENDAR