BEGIN:VCALENDAR
VERSION:2.0
PRODID:-//wp-events-plugin.com//6.6.4.4//EN
TZID:Europe/Berlin
X-WR-TIMEZONE:Europe/Berlin
BEGIN:VEVENT
UID:1059@cafe-krawall.de
DTSTART;TZID=Europe/Berlin:20260123T190000
DTEND;TZID=Europe/Berlin:20260123T234500
DTSTAMP:20260119T140106Z
URL:https://cafe-krawall.de/events/queer-flirtnight-2/
SUMMARY:Queere Flirtnight No. 11
DESCRIPTION:💘 Queere Flirtnight No. 11 💘\n\n❤️ English below ❤
 ️\n\nIt’s that time of the year again - Nachdem die letzte Flirtnight 
 krankheitsbedingt ausfallen musste\, wollen wir die kalte Jahreszeit nun m
 it ein paar heißen cuten Flirts überbrücken 💕\n\nAm 23.01. können i
 m Café Krawall ab 19 Uhr wieder fleißig Zettelchen an neue und alte (Fri
 end) Crushes geschrieben werden 💞\n\nWie’s funktioniert? Ihr bekommt 
 eine Nummer und schreibt fleißig liebe Nachrichten\, die ihr an die Perso
 n (mit Nummer) eurer Wahl adressiert und die von der Flirtfee* verteilt we
 rden 💓 Auch Speeddating wird’s wieder geben!\n\nWenn ihr Fragen oder 
 Unsicherheiten habt oder euch unwohl fühlt\, meldet euch gerne im Vorfeld
  oder an dem Abend selbst bei uns 🩷\n\nWir freuen uns! 💋\nXoxo\nEuer
  ckk\n\n❤️❤️\n\n💘 Queer Flirt Night No. 11 💘\n\nIt’s that 
 time of the year again – after the last Flirt Night had to be cancelled 
 due to illness\, we want to bridge the cold season with some hot and cute 
 flirting 💕\n\nOn January 23rd\, from 7 pm onwards\, you’ll once again
  be able to write little notes to new and old (friend) crushes at Café Kr
 awall 💞\n\nHow does it work? You’ll receive a number and can write sw
 eet messages addressed to the person (by number) of your choice\, which wi
 ll then be delivered by the Flirt Fairy* 💓 There will also be speed dat
 ing again!\n\nIf you have any questions or uncertainties\, or if you feel 
 uncomfortable at any point\, feel free to reach out to us either in advanc
 e or during the evening 🩷\n\nWe’re excited! 💋\nXoxo\nYour ckk
ATTACH;FMTTYPE=image/jpeg:https://cafe-krawall.de/wp-content/uploads/2026/
 01/QUEER-FLIRTNIGHT.jpg
CATEGORIES:specials
END:VEVENT
BEGIN:VTIMEZONE
TZID:Europe/Berlin
X-LIC-LOCATION:Europe/Berlin
BEGIN:STANDARD
DTSTART:20251026T020000
TZOFFSETFROM:+0200
TZOFFSETTO:+0100
TZNAME:CET
END:STANDARD
END:VTIMEZONE
END:VCALENDAR