BEGIN:VCALENDAR
VERSION:2.0
PRODID:-//wp-events-plugin.com//6.6.4.4//EN
TZID:Europe/Berlin
X-WR-TIMEZONE:Europe/Berlin
BEGIN:VEVENT
UID:1056@cafe-krawall.de
DTSTART;TZID=Europe/Berlin:20251218T180000
DTEND;TZID=Europe/Berlin:20251218T210000
DTSTAMP:20251211T211346Z
URL:https://cafe-krawall.de/events/schreibwerkstatt-co-working-space/
SUMMARY:Schreibwerkstatt & Co-Working Space
DESCRIPTION:Schreibwerkstatt und Co-Working Space!\n\nVielen wie mir\, der 
 Orga-Person\, hilft's\, nicht alleine an ihren politischen Texten schreibe
 n zu müssen - mal eine zweite Meinung bekommen oder einfach noch eine See
 le\, die den Raum teilt.\nDas krawall hat eine super passend-angenehme Atm
 osphäre und tolle Verpflegungsmöglichkeiten für uns.\nIn der Idee gibt'
 s zwar einen Fokus auf das Schreiben politischer Text (egal ob Fiktion ode
 r nicht)\, aber eigentlich sind alle Projekte willkommen! (Vielleicht ein 
 Pullover\, der schon lange fertiggehäkelt werden möchte\, oder ein Spiel
 \, dessen Prototyp bald fertig werden möchte.)\n\nLos geht's am 18.12. ab
  18:00 im café krawall
ATTACH;FMTTYPE=image/jpeg:https://cafe-krawall.de/wp-content/uploads/2025/
 12/Co-Working-Schreibwerkstatt.png
CATEGORIES:stammtisch
END:VEVENT
BEGIN:VTIMEZONE
TZID:Europe/Berlin
X-LIC-LOCATION:Europe/Berlin
BEGIN:STANDARD
DTSTART:20251026T020000
TZOFFSETFROM:+0200
TZOFFSETTO:+0100
TZNAME:CET
END:STANDARD
END:VTIMEZONE
END:VCALENDAR