BEGIN:VCALENDAR
VERSION:2.0
PRODID:-//wp-events-plugin.com//6.6.4.4//EN
TZID:Europe/Berlin
X-WR-TIMEZONE:Europe/Berlin
BEGIN:VEVENT
UID:1067@cafe-krawall.de
DTSTART;TZID=Europe/Berlin:20260219T190000
DTEND;TZID=Europe/Berlin:20260219T210000
DTSTAMP:20260212T155801Z
URL:https://cafe-krawall.de/events/science-on-tap-5/
SUMMARY:Science on Tap
DESCRIPTION:Pub Quiz &amp\; Science Talk\n\nDoors Open: 18:30\nStart: 19:00
 \n\nPawandeep Kaur presents: "Does Where You're Born Still Matter? Caste\,
  Policy\, and Inequality in India"
ATTACH;FMTTYPE=image/jpeg:https://cafe-krawall.de/wp-content/uploads/2026/
 02/ScionTapFeb26.png
CATEGORIES:kulturveranstaltung,vortrag
END:VEVENT
BEGIN:VTIMEZONE
TZID:Europe/Berlin
X-LIC-LOCATION:Europe/Berlin
BEGIN:STANDARD
DTSTART:20251026T020000
TZOFFSETFROM:+0200
TZOFFSETTO:+0100
TZNAME:CET
END:STANDARD
END:VTIMEZONE
END:VCALENDAR