BEGIN:VCALENDAR
VERSION:2.0
PRODID:-//wp-events-plugin.com//6.6.4.4//EN
TZID:Europe/Berlin
X-WR-TIMEZONE:Europe/Berlin
BEGIN:VEVENT
UID:1068@cafe-krawall.de
DTSTART;TZID=Europe/Berlin:20260319T190000
DTEND;TZID=Europe/Berlin:20260319T210000
DTSTAMP:20260311T143148Z
URL:https://cafe-krawall.de/events/science-on-tap-6/
SUMMARY:Science on Tap
DESCRIPTION:Science Talk &amp\; Pub Quiz\nDoors open: 18:30 / Start: 19:00\
 n\nMatias Valdenegro-Toro presents:\n"Beyond the Hype: Lessons from 75 Yea
 rs of AI"\n\n&nbsp\;
ATTACH;FMTTYPE=image/jpeg:https://cafe-krawall.de/wp-content/uploads/2026/
 03/1000123745.png
CATEGORIES:vortrag
END:VEVENT
BEGIN:VTIMEZONE
TZID:Europe/Berlin
X-LIC-LOCATION:Europe/Berlin
BEGIN:STANDARD
DTSTART:20251026T020000
TZOFFSETFROM:+0200
TZOFFSETTO:+0100
TZNAME:CET
END:STANDARD
END:VTIMEZONE
END:VCALENDAR