BEGIN:VCALENDAR
VERSION:2.0
PRODID:-//wp-events-plugin.com//6.6.4.4//EN
TZID:Europe/Berlin
X-WR-TIMEZONE:Europe/Berlin
BEGIN:VEVENT
UID:1023@cafe-krawall.de
DTSTART;TZID=Europe/Berlin:20251203T190000
DTEND;TZID=Europe/Berlin:20251203T210000
DTSTAMP:20251124T201651Z
URL:https://cafe-krawall.de/events/was-ist-solidaritaet-ueberlegungen-aus-
 der-moralphilosophie/
SUMMARY:Was ist Solidarität? Überlegungen aus der Moralphilosophie
DESCRIPTION:Was ist Solidarität? Überlegungen aus der Moralphilosophie\n-
  Vortrag von Daphne Schwarz\n\nWas ist Solidarität und welche Handlungen 
 verlangt sie von uns? In\ndiesem Vortrag werde ich diese Fragen aus moralp
 hilosophischer\nPerspektive betrachten und Antworten skizzieren. Ich werde
  zeigen\, dass Solidarität ein moralisches Phänomen ist\, weil sie Teil 
 eines guten Menschenlebens ist. Dies ist sie deswegen\, weil wir Menschen 
 auf Grund unserer körperlichen Existenz in ein Netzwerk von Abhängigkeit
 sbeziehungen eingebunden sind. Unser gesamtes Leben hindurch sind wir von 
 anderen in unterschiedlichen Hinsichten abhängig und\numgekehrt andere vo
 n uns. Diese Einbindung in Abhängigkeitsbeziehungen erfordert ein wechsel
 seitiges nicht-berechnendes Geben und Nehmen. In der Ausübung dieses nich
 t-berechnenden Geben und Nehmens besteht solidarisches Handeln.
ATTACH;FMTTYPE=image/jpeg:https://cafe-krawall.de/wp-content/uploads/2025/
 11/VortragSolidaritaet.png
CATEGORIES:vortrag
END:VEVENT
BEGIN:VTIMEZONE
TZID:Europe/Berlin
X-LIC-LOCATION:Europe/Berlin
BEGIN:STANDARD
DTSTART:20251026T020000
TZOFFSETFROM:+0200
TZOFFSETTO:+0100
TZNAME:CET
END:STANDARD
END:VTIMEZONE
END:VCALENDAR