BEGIN:VCALENDAR
VERSION:2.0
PRODID:-//wp-events-plugin.com//6.6.4.4//EN
TZID:Europe/Berlin
X-WR-TIMEZONE:Europe/Berlin
BEGIN:VEVENT
UID:1069@cafe-krawall.de
DTSTART;TZID=Europe/Berlin:20260318T183000
DTEND;TZID=Europe/Berlin:20260318T203000
DTSTAMP:20260311T162402Z
URL:https://cafe-krawall.de/events/workshop-abolitionismus/
SUMMARY:Workshop: Abolitionismus
DESCRIPTION:English below\n\nEinladung zum Workshop: Argumentationstraining
  zu Abolitionismus\n\nZum 18. März\, dem Tag der politischen Gefangenen\,
  laden wir zu einem Workshop ein\, um uns gemeinsam mit abolitionistischen
  Perspektiven zu beschäftigen und Argumentationsstrategien zu üben.\n\nW
 ir beginnen mit einer kurzen Begriffsklärung und wollen im Anschluss geme
 insam diskutieren. Dafür werden wir in Kleingruppen anhand verschiedener 
 Beispiele eigene Argumentationen entwickeln und ausprobieren. \n\nDer Wor
 kshop richtet sich an alle\, die sich mit abolitionistischen Ansätzen aus
 einandersetzen und ihre Argumentationssicherheit im Gespräch und in polit
 ischen Diskussionen stärken möchten. Es ist kein Vorwissen nötig\, Frag
 en sowie eigene Erfahrungen sind ausdrücklich erwünscht. \n\nWann: 18.0
 3. 18:30-20:30\nWo: Café Kollektiv Krawall\nZusatzinfos: per Treppenlift 
 erreichbar\, rollstuhlgerechte Toilette\, bei Erkältungssymptomen zuhause
  bleiben\nEintritt: gegen Spende\; mit Kulturticket kostenlos\n\nEnglish v
 ersion\n\nWorkshop Invitation: Argumentation Training on Abolitionism\n\nO
 n March 18th\, the International Day of Political Prisoners\, we invite yo
 u to a workshop to explore abolitionist perspectives and practice argument
 ation strategies.\n\nWe will begin with a brief clarification of terms and
  then discuss them together. In small groups\, we will develop and test ou
 r own arguments using various examples.\n\nThis workshop is for anyone int
 erested in abolitionist approaches and who wants to strengthen their argum
 entation skills in conversations and political discussions. No prior knowl
 edge is necessary\; questions and sharing your own experiences are express
 ly welcome.\n\nWhen: March 18th\, 6:30-8:30 pm\nWhere: Café Kollektiv Kra
 wall\nLanguage: both german and english\nAdditional information: accessibl
 e by stairlift\, wheelchair-accessible restroom\, please stay home if you 
 have cold symptoms\nAdmission: donation-based\; free with Kulturticket\n\n
 &nbsp\;
ATTACH;FMTTYPE=image/jpeg:https://cafe-krawall.de/wp-content/uploads/2026/
 03/IMG_9691.jpg
CATEGORIES:Workshop
END:VEVENT
BEGIN:VTIMEZONE
TZID:Europe/Berlin
X-LIC-LOCATION:Europe/Berlin
BEGIN:STANDARD
DTSTART:20251026T020000
TZOFFSETFROM:+0200
TZOFFSETTO:+0100
TZNAME:CET
END:STANDARD
END:VTIMEZONE
END:VCALENDAR